BEGIN:VCALENDAR
VERSION:2.0
PRODID:-//wp-events-plugin.com//7.2.3.1//EN
BEGIN:VEVENT
UID:19@madisoncountyarts.com
DTSTART:20250919T190000Z
DTEND:20250919T210000Z
DTSTAMP:20250919T181845Z
URL:https://madisoncountyarts.com/events-calendar/jazzed-for-the-arts-fund
 raiser/
SUMMARY:'Jazzed For The Arts' Fundraiser
DESCRIPTION:You’re Invited!\n'Jazzed for the Arts'\nA lively evening supp
 orting the\nMadison County Arts Council\nBuilding Fund\nFriday\, September
  19\, 2025\, 7-9pm\nAt The Weaverville Community\nCenter\nJoin us for a me
 morable night of art\, music\, delectable eats and community spirit as we\
 nraise funds to bring new life to our historic home at 90 Main Street in M
 arshall!\n \nWe’re well on our way\, thanks to many generous hearts\, a
 nd turn to you\, our current\nand potential new friends\, to make our drea
 m a reality.\nWith your help\, we can open our doors once again to creativ
 ity\, connection\, and\ncelebration.\nThe evening will feature:\nA curated
  silent auction of regional artwork\nThe musical stylings of amazingly tal
 ented performers to jazz up the atmosphere\nA spirited “Dutch” auction
  where you can fund meaningful parts of the project\nCome be part of the r
 ebuilding story!\nTickets are $50 per person.\nWe will have tickets availa
 ble at the door for purchase. \n\n
CATEGORIES:Art,Music,Performance
LOCATION:Weaverville Community Center\, 60 Lakeshore Dr\, Weaverville \, NC
 \, 28787\, United States
X-APPLE-STRUCTURED-LOCATION;VALUE=URI;X-ADDRESS=60 Lakeshore Dr\, Weavervil
 le \, NC\, 28787\, United States;X-APPLE-RADIUS=100;X-TITLE=Weaverville Co
 mmunity Center:geo:0,0
END:VEVENT
END:VCALENDAR