BEGIN:VCALENDAR
VERSION:2.0
PRODID:-//wp-events-plugin.com//7.2.3.1//EN
BEGIN:VEVENT
UID:7@madisoncountyarts.com
DTSTART:20250823T160000Z
DTEND:20250823T190000Z
DTSTAMP:20250823T164039Z
URL:https://madisoncountyarts.com/events-calendar/fiddlers-of-madison-coun
 ty-concert/
SUMMARY:Fiddlers Of Madison County at Ebbs Chapel
DESCRIPTION:Tickets available at the door today! Come on out!\n\n\n&nbsp\;
CATEGORIES:Music
LOCATION:Ebbs Chapel Performing Arts Center\, 271 Laurel Valley Rd\, Mars H
 ill\, NC\, 28754\, United States
X-APPLE-STRUCTURED-LOCATION;VALUE=URI;X-ADDRESS=271 Laurel Valley Rd\, Mars
  Hill\, NC\, 28754\, United States;X-APPLE-RADIUS=100;X-TITLE=Ebbs Chapel 
 Performing Arts Center:geo:0,0
END:VEVENT
END:VCALENDAR