BEGIN:VCALENDAR
VERSION:2.0
PRODID:-//wp-events-plugin.com//7.2.3.1//EN
BEGIN:VEVENT
UID:36@madisoncountyarts.com
DTSTART:20260605T160000Z
DTEND:20260605T190000Z
DTSTAMP:20260422T215331Z
URL:https://madisoncountyarts.com/events-calendar/chris-aluka-berry-affril
 achiatestimonies-opening/
SUMMARY:Chris Aluka Berry Affrilachia:Testimonies Opening
DESCRIPTION:MCAC is proud to present this work\, \nfrom Madison County resi
 dent and \n2026 Guggenheim Fellow in Photography\nChris Aluka Berry. \nLea
 rn more about this ongoing project at\n https://www.alukastorytellingphoto
 graphy.com/\n
ATTACH;FMTTYPE=image/jpeg:https://madisoncountyarts.com/wp-content/uploads
 /2026/04/3401_WV_Talk-scaled.jpg
END:VEVENT
END:VCALENDAR